BEGIN:VCALENDAR
VERSION:2.0
PRODID:-//Healthwatch Staffordshire - ECPv5.14.1//NONSGML v1.0//EN
CALSCALE:GREGORIAN
METHOD:PUBLISH
X-WR-CALNAME:Healthwatch Staffordshire
X-ORIGINAL-URL:http://healthwatchstaffordshire.co.uk
X-WR-CALDESC:Events for Healthwatch Staffordshire
BEGIN:VTIMEZONE
TZID:UTC
BEGIN:STANDARD
TZOFFSETFROM:+0000
TZOFFSETTO:+0000
TZNAME:UTC
DTSTART:20220101T000000
END:STANDARD
END:VTIMEZONE
BEGIN:VEVENT
DTSTART;TZID=UTC:20220903T110000
DTEND;TZID=UTC:20220903T200000
DTSTAMP:20260421T084144
CREATED:20220712T110121Z
LAST-MODIFIED:20220712T110121Z
UID:14637-1662202800-1662235200@healthwatchstaffordshire.co.uk
SUMMARY:Chase Pride 2022
DESCRIPTION:Healthwatch Staffordshire are pleased to be attending this event.
URL:http://healthwatchstaffordshire.co.uk/event/chase-pride-2022/
LOCATION:Hednesford Park\, Rugeley Road\, Hednesford\, WS12 1TB\, United Kingdom
END:VEVENT
END:VCALENDAR