BEGIN:VCALENDAR
VERSION:2.0
PRODID:-//Healthwatch Staffordshire - ECPv5.14.1//NONSGML v1.0//EN
CALSCALE:GREGORIAN
METHOD:PUBLISH
X-WR-CALNAME:Healthwatch Staffordshire
X-ORIGINAL-URL:http://healthwatchstaffordshire.co.uk
X-WR-CALDESC:Events for Healthwatch Staffordshire
BEGIN:VTIMEZONE
TZID:UTC
BEGIN:STANDARD
TZOFFSETFROM:+0000
TZOFFSETTO:+0000
TZNAME:UTC
DTSTART:20220101T000000
END:STANDARD
END:VTIMEZONE
BEGIN:VEVENT
DTSTART;TZID=UTC:20220705T160000
DTEND;TZID=UTC:20220705T180000
DTSTAMP:20260421T101944
CREATED:20220616T133707Z
LAST-MODIFIED:20220616T133707Z
UID:14299-1657036800-1657044000@healthwatchstaffordshire.co.uk
SUMMARY:Staffordshire Moorlands VCSE Locality Forum
DESCRIPTION:
URL:http://healthwatchstaffordshire.co.uk/event/staffordshire-moorlands-vcse-locality-forum/
LOCATION:Salvation Army Hall\, Leek\, Salisbury Street\, Leek\, Staffordshire\, ST13 5EE\, United Kingdom
END:VEVENT
END:VCALENDAR