BEGIN:VCALENDAR
VERSION:2.0
PRODID:-//Healthwatch Staffordshire - ECPv5.14.1//NONSGML v1.0//EN
CALSCALE:GREGORIAN
METHOD:PUBLISH
X-WR-CALNAME:Healthwatch Staffordshire
X-ORIGINAL-URL:https://healthwatchstaffordshire.co.uk
X-WR-CALDESC:Events for Healthwatch Staffordshire
BEGIN:VTIMEZONE
TZID:UTC
BEGIN:STANDARD
TZOFFSETFROM:+0000
TZOFFSETTO:+0000
TZNAME:UTC
DTSTART:20230101T000000
END:STANDARD
END:VTIMEZONE
BEGIN:VEVENT
DTSTART;TZID=UTC:20231003T093000
DTEND;TZID=UTC:20231003T163000
DTSTAMP:20260420T080912
CREATED:20230919T131520Z
LAST-MODIFIED:20230919T131936Z
UID:16950-1696325400-1696350600@healthwatchstaffordshire.co.uk
SUMMARY:Together We Thrive - SEND Marketplace Event
DESCRIPTION:Daniela and Chris will be attending this SEND marketplace event.
URL:https://healthwatchstaffordshire.co.uk/event/together-we-thrive-send-marketplace-event/
LOCATION:Staffordshire County Showground\, Ingestre Suite\, Weston Road\, Stafford\, Staffordshire\, ST18 0BD\, United Kingdom
END:VEVENT
END:VCALENDAR